BEGIN:VCALENDAR
VERSION:2.0
PRODID:-//SCCA - ECPv6.15.20//NONSGML v1.0//EN
CALSCALE:GREGORIAN
METHOD:PUBLISH
X-WR-CALNAME:SCCA
X-ORIGINAL-URL:https://southcroydoncommunityassociation.com
X-WR-CALDESC:Events for SCCA
REFRESH-INTERVAL;VALUE=DURATION:PT1H
X-Robots-Tag:noindex
X-PUBLISHED-TTL:PT1H
BEGIN:VTIMEZONE
TZID:Europe/London
BEGIN:DAYLIGHT
TZOFFSETFROM:+0000
TZOFFSETTO:+0100
TZNAME:BST
DTSTART:20240331T010000
END:DAYLIGHT
BEGIN:STANDARD
TZOFFSETFROM:+0100
TZOFFSETTO:+0000
TZNAME:GMT
DTSTART:20241027T010000
END:STANDARD
BEGIN:DAYLIGHT
TZOFFSETFROM:+0000
TZOFFSETTO:+0100
TZNAME:BST
DTSTART:20250330T010000
END:DAYLIGHT
BEGIN:STANDARD
TZOFFSETFROM:+0100
TZOFFSETTO:+0000
TZNAME:GMT
DTSTART:20251026T010000
END:STANDARD
BEGIN:DAYLIGHT
TZOFFSETFROM:+0000
TZOFFSETTO:+0100
TZNAME:BST
DTSTART:20260329T010000
END:DAYLIGHT
BEGIN:STANDARD
TZOFFSETFROM:+0100
TZOFFSETTO:+0000
TZNAME:GMT
DTSTART:20261025T010000
END:STANDARD
BEGIN:DAYLIGHT
TZOFFSETFROM:+0000
TZOFFSETTO:+0100
TZNAME:BST
DTSTART:20270328T010000
END:DAYLIGHT
BEGIN:STANDARD
TZOFFSETFROM:+0100
TZOFFSETTO:+0000
TZNAME:GMT
DTSTART:20271031T010000
END:STANDARD
END:VTIMEZONE
BEGIN:VEVENT
DTSTART;TZID=Europe/London:20260316T190000
DTEND;TZID=Europe/London:20260316T203000
DTSTAMP:20260420T083335
CREATED:20260204T170152Z
LAST-MODIFIED:20260209T143723Z
UID:464-1773687600-1773693000@southcroydoncommunityassociation.com
SUMMARY:SCCA AGM 2026
DESCRIPTION:Join us for our Annual General Meeting 2026!
URL:https://southcroydoncommunityassociation.com/event/scca-agm-2026/
LOCATION:St. Peter’s Church\, South Croydon\, St Peter's Rd\, Croydon\, CR0 1EZ
ATTACH;FMTTYPE=image/png:https://southcroydoncommunityassociation.com/wp-content/uploads/2025/01/1.png
END:VEVENT
BEGIN:VEVENT
DTSTART;TZID=Europe/London:20250831T120000
DTEND;TZID=Europe/London:20250831T190000
DTSTAMP:20260420T083336
CREATED:20250618T215434Z
LAST-MODIFIED:20250618T215436Z
UID:361-1756641600-1756666800@southcroydoncommunityassociation.com
SUMMARY:Croydon Food & Music Festival
DESCRIPTION:The Croydon Food Festival returns to South End Road\, please join to sample the local restaurants and musical artists.
URL:https://southcroydoncommunityassociation.com/event/croydon-food-music-festival/
LOCATION:South End Road\, South End Road\, CR0 1DP
END:VEVENT
BEGIN:VEVENT
DTSTART;TZID=Europe/London:20250627T100000
DTEND;TZID=Europe/London:20250627T110000
DTSTAMP:20260420T083336
CREATED:20250618T220938Z
LAST-MODIFIED:20250618T220940Z
UID:371-1751018400-1751022000@southcroydoncommunityassociation.com
SUMMARY:Coffee\, Tea and Talk
DESCRIPTION:Coffee\, Tea\, and Talk at Le Bon Cafe. Everyone is welcome to this stress-free meet-up with locals; buy a drink\, relax\, and chat.
URL:https://southcroydoncommunityassociation.com/event/coffee-tea-and-talk-2/
LOCATION:Lloyd Park Cafe\, Coombe Road\, Croydon\, CR0 1BB
END:VEVENT
BEGIN:VEVENT
DTSTART;TZID=Europe/London:20250626T103000
DTEND;TZID=Europe/London:20250626T120000
DTSTAMP:20260420T083336
CREATED:20250618T213112Z
LAST-MODIFIED:20250618T213113Z
UID:345-1750933800-1750939200@southcroydoncommunityassociation.com
SUMMARY:Tour of Shirley Windmill
DESCRIPTION:An exclusive tour of the Shirley Windmill for Full SCCA Members with the Friends of Shirley Windmill. Adults and accompanied children welcome. Be prepared for steep stairs. Donations welcome!
URL:https://southcroydoncommunityassociation.com/event/tour-of-shirley-windmill/
END:VEVENT
BEGIN:VEVENT
DTSTART;TZID=Europe/London:20250616T193000
DTEND;TZID=Europe/London:20250616T210000
DTSTAMP:20260420T083336
CREATED:20250618T215748Z
LAST-MODIFIED:20250618T215750Z
UID:366-1750102200-1750107600@southcroydoncommunityassociation.com
SUMMARY:SCCA General Meeting
DESCRIPTION:SCCA is planning a meeting to discuss current topics and update actions.
URL:https://southcroydoncommunityassociation.com/event/scca-general-meeting/
LOCATION:Croham Arms\, 1 Croham Road\, South Croydon\, CR2 7PB
END:VEVENT
BEGIN:VEVENT
DTSTART;TZID=Europe/London:20250530T100000
DTEND;TZID=Europe/London:20250530T110000
DTSTAMP:20260420T083336
CREATED:20250618T214319Z
LAST-MODIFIED:20250618T214353Z
UID:352-1748599200-1748602800@southcroydoncommunityassociation.com
SUMMARY:Coffee\, Tea and Talk
DESCRIPTION:SCCA Coffee\, Tea and Talk at Le Bon Cafe. Everyone is welcome to join this stress-free meet-up with locals; buy a drink\, relax and chat.
URL:https://southcroydoncommunityassociation.com/event/coffee-tea-and-talk/
LOCATION:Le Bon Cafe\, 61 South End\, South Croydon\, CR0 1BF
END:VEVENT
BEGIN:VEVENT
DTSTART;TZID=Europe/London:20250409T143000
DTEND;TZID=Europe/London:20250409T153000
DTSTAMP:20260420T083336
CREATED:20250212T215857Z
LAST-MODIFIED:20250212T215859Z
UID:303-1744209000-1744212600@southcroydoncommunityassociation.com
SUMMARY:Croydon Fire Station Visit
DESCRIPTION:Visit to the Croydon branch of the London Fire Brigade. \n\n\n\nIntroduction and Description of the Fire Services \n\n\n\nTour of the Fire Station: Look around a Fire Engine\, Incident Room\, Kit Room\, and play with the hoses.
URL:https://southcroydoncommunityassociation.com/event/croydon-fire-station-visit/
LOCATION:London Fire Brigade\, 90 Old Town\, Croydon\, CR0 1AR\, Croydon
END:VEVENT
BEGIN:VEVENT
DTSTART;TZID=Europe/London:20250327T193000
DTEND;TZID=Europe/London:20250327T213000
DTSTAMP:20260420T083336
CREATED:20251002T190053Z
LAST-MODIFIED:20250618T165417Z
UID:311-1743103800-1743111000@southcroydoncommunityassociation.com
SUMMARY:SCCA Social!
DESCRIPTION:A fundraiser for the local community noticeboard
URL:https://southcroydoncommunityassociation.com/event/scca-social/
LOCATION:The Treehouse\, 38 South End\, South Croydon\, CR0 1DP\, United Kingdom
ATTACH;FMTTYPE=image/jpeg:https://southcroydoncommunityassociation.com/wp-content/uploads/2025/03/SpringSocialEvent.jpg
END:VEVENT
BEGIN:VEVENT
DTSTART;TZID=Europe/London:20250306T193000
DTEND;TZID=Europe/London:20250306T203000
DTSTAMP:20260420T083336
CREATED:20250304T221002Z
LAST-MODIFIED:20250304T221323Z
UID:316-1741289400-1741293000@southcroydoncommunityassociation.com
SUMMARY:SCCA Annual General Meeting
DESCRIPTION:The Annual General Meeting of the SCCA will be taking place in March. We look forward to welcoming you as we review the past year and look ahead at 2025.
URL:https://southcroydoncommunityassociation.com/event/scca-annual-general-meeting/
LOCATION:St. Peter’s Church House\, Heathfield Road\, South Croydon\, CR0 1EZ\, United Kingdom
ATTACH;FMTTYPE=image/jpeg:https://southcroydoncommunityassociation.com/wp-content/uploads/2025/01/cropped-SCCALogo.jpg
END:VEVENT
END:VCALENDAR